Package: MDTS Version: 1.24.0 Command: /Library/Frameworks/R.framework/Resources/bin/R CMD INSTALL MDTS StartedAt: 2024-10-16 15:36:31 -0400 (Wed, 16 Oct 2024) EndedAt: 2024-10-16 15:37:29 -0400 (Wed, 16 Oct 2024) EllapsedTime: 57.3 seconds RetCode: 0 Status: OK