Package: MDTS Version: 1.24.0 Command: rm -rf MDTS.buildbin-libdir && mkdir MDTS.buildbin-libdir && /Users/biocbuild/BBS/utils/build-universal.sh MDTS_1.24.0.tar.gz /Library/Frameworks/R.framework/Resources/bin/R MDTS.buildbin-libdir StartedAt: 2024-10-17 16:31:25 -0400 (Thu, 17 Oct 2024) EndedAt: 2024-10-17 16:32:28 -0400 (Thu, 17 Oct 2024) EllapsedTime: 62.3 seconds RetCode: 0 Status: OK PackageFile: MDTS_1.24.0.tgz PackageFileSize: 79.22 KiB