Package: MDTS Version: 1.24.0 Command: /Library/Frameworks/R.framework/Resources/bin/R CMD build --keep-empty-dirs --no-resave-data MDTS StartedAt: 2024-10-17 03:40:40 -0400 (Thu, 17 Oct 2024) EndedAt: 2024-10-17 03:41:30 -0400 (Thu, 17 Oct 2024) EllapsedTime: 49.9 seconds RetCode: 0 Status: OK PackageFile: MDTS_1.24.0.tar.gz PackageFileSize: 31.41 KiB