Package: MCbiclust Version: 1.28.0 Command: E:\biocbuild\bbs-3.19-bioc\R\bin\R.exe CMD INSTALL MCbiclust StartedAt: 2024-10-16 16:56:12 -0400 (Wed, 16 Oct 2024) EndedAt: 2024-10-16 16:56:41 -0400 (Wed, 16 Oct 2024) EllapsedTime: 28.7 seconds RetCode: 0 Status: OK