Package: MCbiclust Version: 1.28.0 Command: chmod a+r MCbiclust -R && E:\biocbuild\bbs-3.19-bioc\R\bin\R.exe CMD build --keep-empty-dirs --no-resave-data MCbiclust StartedAt: 2024-10-16 20:06:52 -0400 (Wed, 16 Oct 2024) EndedAt: 2024-10-16 20:09:10 -0400 (Wed, 16 Oct 2024) EllapsedTime: 138.3 seconds RetCode: 0 Status: OK PackageFile: MCbiclust_1.28.0.tar.gz PackageFileSize: 3.647 MiB