Package: MCbiclust Version: 1.28.0 Command: /home/biocbuild/bbs-3.19-bioc/R/bin/R CMD INSTALL MCbiclust StartedAt: 2024-10-16 16:28:12 -0400 (Wed, 16 Oct 2024) EndedAt: 2024-10-16 16:28:31 -0400 (Wed, 16 Oct 2024) EllapsedTime: 19.4 seconds RetCode: 0 Status: OK