Package: MCbiclust Version: 1.28.0 Command: /Library/Frameworks/R.framework/Resources/bin/R CMD build --keep-empty-dirs --no-resave-data MCbiclust StartedAt: 2024-06-09 17:09:48 -0400 (Sun, 09 Jun 2024) EndedAt: 2024-06-09 17:10:57 -0400 (Sun, 09 Jun 2024) EllapsedTime: 69.8 seconds RetCode: 0 Status: OK PackageFile: MCbiclust_1.28.0.tar.gz PackageFileSize: 6.562 MiB