Package: MCbiclust Version: 1.28.0 Command: rm -rf MCbiclust.buildbin-libdir && mkdir MCbiclust.buildbin-libdir && /Users/biocbuild/BBS/utils/build-universal.sh MCbiclust_1.28.0.tar.gz /Library/Frameworks/R.framework/Resources/bin/R MCbiclust.buildbin-libdir StartedAt: 2024-06-10 00:25:33 -0400 (Mon, 10 Jun 2024) EndedAt: 2024-06-10 00:26:04 -0400 (Mon, 10 Jun 2024) EllapsedTime: 31.4 seconds RetCode: 0 Status: OK PackageFile: MCbiclust_1.28.0.tgz PackageFileSize: 8.029 MiB