Package: MCbiclust Version: 1.28.0 Command: /Library/Frameworks/R.framework/Resources/bin/R CMD check --install=check:MCbiclust.install-out.txt --library=/Library/Frameworks/R.framework/Resources/library --no-vignettes --timings MCbiclust_1.28.0.tar.gz StartedAt: 2024-10-18 02:52:09 -0400 (Fri, 18 Oct 2024) EndedAt: 2024-10-18 02:59:15 -0400 (Fri, 18 Oct 2024) EllapsedTime: 426.1 seconds RetCode: 0 Status: OK CheckDir: MCbiclust.Rcheck Warnings: 0