Package: MCbiclust Version: 1.28.0 Command: rm -rf MCbiclust.buildbin-libdir && mkdir MCbiclust.buildbin-libdir && /Users/biocbuild/BBS/utils/build-universal.sh MCbiclust_1.28.0.tar.gz /Library/Frameworks/R.framework/Resources/bin/R MCbiclust.buildbin-libdir StartedAt: 2024-10-18 19:16:44 -0400 (Fri, 18 Oct 2024) EndedAt: 2024-10-18 19:17:16 -0400 (Fri, 18 Oct 2024) EllapsedTime: 31.9 seconds RetCode: 0 Status: OK PackageFile: MCbiclust_1.28.0.tgz PackageFileSize: 8.041 MiB