Package: MBttest Version: 1.32.0 Command: /Library/Frameworks/R.framework/Resources/bin/R CMD build --keep-empty-dirs --no-resave-data MBttest StartedAt: 2024-10-17 03:39:48 -0400 (Thu, 17 Oct 2024) EndedAt: 2024-10-17 03:40:15 -0400 (Thu, 17 Oct 2024) EllapsedTime: 27.0 seconds RetCode: 0 Status: OK PackageFile: MBttest_1.32.0.tar.gz PackageFileSize: 3.447 MiB