Package: MBQN Version: 2.16.0 Command: rm -rf MBQN.buildbin-libdir && mkdir MBQN.buildbin-libdir && E:\biocbuild\bbs-3.19-bioc\R\bin\R.exe CMD INSTALL --build --library=MBQN.buildbin-libdir MBQN_2.16.0.tar.gz StartedAt: 2024-10-17 08:05:20 -0400 (Thu, 17 Oct 2024) EndedAt: 2024-10-17 08:05:28 -0400 (Thu, 17 Oct 2024) EllapsedTime: 8.7 seconds RetCode: 0 Status: OK PackageFile: MBQN_2.16.0.zip PackageFileSize: 142.6 KiB