Package: MBQN Version: 2.16.0 Command: /Library/Frameworks/R.framework/Resources/bin/R CMD INSTALL MBQN StartedAt: 2024-10-16 16:00:23 -0400 (Wed, 16 Oct 2024) EndedAt: 2024-10-16 16:00:30 -0400 (Wed, 16 Oct 2024) EllapsedTime: 7.3 seconds RetCode: 0 Status: OK