Package: MBECS Version: 1.8.0 Command: E:\biocbuild\bbs-3.19-bioc\R\bin\R.exe CMD INSTALL MBECS StartedAt: 2024-10-16 17:05:44 -0400 (Wed, 16 Oct 2024) EndedAt: 2024-10-16 17:06:31 -0400 (Wed, 16 Oct 2024) EllapsedTime: 47.0 seconds RetCode: 0 Status: OK