Package: MBECS Version: 1.8.0 Command: /home/biocbuild/bbs-3.19-bioc/R/bin/R CMD INSTALL MBECS StartedAt: 2024-10-16 16:33:27 -0400 (Wed, 16 Oct 2024) EndedAt: 2024-10-16 16:33:46 -0400 (Wed, 16 Oct 2024) EllapsedTime: 19.2 seconds RetCode: 0 Status: OK