Package: MBCB Version: 1.58.0 Command: F:\biocbuild\bbs-3.19-bioc\R\bin\R.exe CMD INSTALL MBCB StartedAt: 2024-06-26 15:39:17 -0400 (Wed, 26 Jun 2024) EndedAt: 2024-06-26 15:39:40 -0400 (Wed, 26 Jun 2024) EllapsedTime: 23.4 seconds RetCode: 0 Status: OK