Package: MBCB Version: 1.58.0 Command: chmod a+r MBCB -R && F:\biocbuild\bbs-3.19-bioc\R\bin\R.exe CMD build --keep-empty-dirs --no-resave-data MBCB StartedAt: 2024-06-26 19:51:20 -0400 (Wed, 26 Jun 2024) EndedAt: 2024-06-26 19:51:32 -0400 (Wed, 26 Jun 2024) EllapsedTime: 12.0 seconds RetCode: 0 Status: OK PackageFile: MBCB_1.58.0.tar.gz PackageFileSize: 316.6 KiB