Package: MBCB Version: 1.58.0 Command: /home/biocbuild/bbs-3.19-bioc/R/bin/R CMD build --keep-empty-dirs --no-resave-data MBCB StartedAt: 2024-10-16 19:17:59 -0400 (Wed, 16 Oct 2024) EndedAt: 2024-10-16 19:18:05 -0400 (Wed, 16 Oct 2024) EllapsedTime: 6.0 seconds RetCode: 0 Status: OK PackageFile: MBCB_1.58.0.tar.gz PackageFileSize: 317.5 KiB