Package: MBCB Version: 1.58.0 Command: /Library/Frameworks/R.framework/Resources/bin/R CMD build --keep-empty-dirs --no-resave-data MBCB StartedAt: 2024-10-16 20:33:33 -0400 (Wed, 16 Oct 2024) EndedAt: 2024-10-16 20:34:01 -0400 (Wed, 16 Oct 2024) EllapsedTime: 28.2 seconds RetCode: 0 Status: OK PackageFile: MBCB_1.58.0.tar.gz PackageFileSize: 409.2 KiB