Package: MBCB Version: 1.58.0 Command: rm -rf MBCB.buildbin-libdir && mkdir MBCB.buildbin-libdir && /Users/biocbuild/BBS/utils/build-universal.sh MBCB_1.58.0.tar.gz /Library/Frameworks/R.framework/Resources/bin/R MBCB.buildbin-libdir StartedAt: 2024-10-17 16:31:05 -0400 (Thu, 17 Oct 2024) EndedAt: 2024-10-17 16:31:18 -0400 (Thu, 17 Oct 2024) EllapsedTime: 12.3 seconds RetCode: 0 Status: OK PackageFile: MBCB_1.58.0.tgz PackageFileSize: 470.1 KiB