Package: MBCB Version: 1.58.0 Command: /home/biocbuild/R/R-beta-2024-04-15_r86425/bin/R CMD build --keep-empty-dirs --no-resave-data MBCB StartedAt: 2024-05-09 01:23:29 -0000 (Thu, 09 May 2024) EndedAt: 2024-05-09 01:23:36 -0000 (Thu, 09 May 2024) EllapsedTime: 7.0 seconds RetCode: 0 Status: OK PackageFile: MBCB_1.58.0.tar.gz PackageFileSize: 402.7 KiB