Package: MBAmethyl Version: 1.38.0 Command: rm -rf MBAmethyl.buildbin-libdir && mkdir MBAmethyl.buildbin-libdir && F:\biocbuild\bbs-3.19-bioc\R\bin\R.exe CMD INSTALL --build --library=MBAmethyl.buildbin-libdir MBAmethyl_1.38.0.tar.gz StartedAt: 2024-06-27 08:27:27 -0400 (Thu, 27 Jun 2024) EndedAt: 2024-06-27 08:27:45 -0400 (Thu, 27 Jun 2024) EllapsedTime: 18.2 seconds RetCode: 0 Status: OK PackageFile: MBAmethyl_1.38.0.zip PackageFileSize: 113.6 KiB