Package: MBASED Version: 1.38.0 Command: chmod a+r MBASED -R && E:\biocbuild\bbs-3.19-bioc\R\bin\R.exe CMD build --keep-empty-dirs --no-resave-data MBASED StartedAt: 2024-10-16 20:06:16 -0400 (Wed, 16 Oct 2024) EndedAt: 2024-10-16 20:08:54 -0400 (Wed, 16 Oct 2024) EllapsedTime: 158.8 seconds RetCode: 0 Status: OK PackageFile: MBASED_1.38.0.tar.gz PackageFileSize: 366.1 KiB