Package: MBASED Version: 1.38.0 Command: rm -rf MBASED.buildbin-libdir && mkdir MBASED.buildbin-libdir && E:\biocbuild\bbs-3.19-bioc\R\bin\R.exe CMD INSTALL --build --library=MBASED.buildbin-libdir MBASED_1.38.0.tar.gz StartedAt: 2024-10-17 08:05:09 -0400 (Thu, 17 Oct 2024) EndedAt: 2024-10-17 08:05:36 -0400 (Thu, 17 Oct 2024) EllapsedTime: 26.7 seconds RetCode: 0 Status: OK PackageFile: MBASED_1.38.0.zip PackageFileSize: 499.6 KiB