Package: MBASED Version: 1.38.0 Command: /Library/Frameworks/R.framework/Resources/bin/R CMD check --install=check:MBASED.install-out.txt --library=/Library/Frameworks/R.framework/Resources/library --no-vignettes --timings MBASED_1.38.0.tar.gz StartedAt: 2024-06-09 21:18:25 -0400 (Sun, 09 Jun 2024) EndedAt: 2024-06-09 21:21:46 -0400 (Sun, 09 Jun 2024) EllapsedTime: 201.5 seconds RetCode: 0 Status: OK CheckDir: MBASED.Rcheck Warnings: 0