Package: MAST Version: 1.30.0 Command: E:\biocbuild\bbs-3.19-bioc\R\bin\R.exe CMD INSTALL MAST StartedAt: 2024-10-16 16:24:42 -0400 (Wed, 16 Oct 2024) EndedAt: 2024-10-16 16:25:46 -0400 (Wed, 16 Oct 2024) EllapsedTime: 64.6 seconds RetCode: 0 Status: OK