Package: MAST Version: 1.30.0 Command: rm -rf MAST.buildbin-libdir && mkdir MAST.buildbin-libdir && E:\biocbuild\bbs-3.19-bioc\R\bin\R.exe CMD INSTALL --build --library=MAST.buildbin-libdir MAST_1.30.0.tar.gz StartedAt: 2024-10-17 08:04:53 -0400 (Thu, 17 Oct 2024) EndedAt: 2024-10-17 08:06:07 -0400 (Thu, 17 Oct 2024) EllapsedTime: 74.5 seconds RetCode: 0 Status: OK PackageFile: MAST_1.30.0.zip PackageFileSize: 6.074 MiB