Package: MAST Version: 1.30.0 Command: rm -rf MAST.buildbin-libdir && mkdir MAST.buildbin-libdir && F:\biocbuild\bbs-3.19-bioc\R\bin\R.exe CMD INSTALL --build --library=MAST.buildbin-libdir MAST_1.30.0.tar.gz StartedAt: 2024-06-27 08:27:11 -0400 (Thu, 27 Jun 2024) EndedAt: 2024-06-27 08:28:17 -0400 (Thu, 27 Jun 2024) EllapsedTime: 65.7 seconds RetCode: 0 Status: OK PackageFile: MAST_1.30.0.zip PackageFileSize: 6.074 MiB