Package: MAST Version: 1.30.0 Command: /Library/Frameworks/R.framework/Resources/bin/R CMD check --install=check:MAST.install-out.txt --library=/Library/Frameworks/R.framework/Resources/library --no-vignettes --timings MAST_1.30.0.tar.gz StartedAt: 2024-10-17 07:40:55 -0400 (Thu, 17 Oct 2024) EndedAt: 2024-10-17 07:52:31 -0400 (Thu, 17 Oct 2024) EllapsedTime: 696.5 seconds RetCode: 0 Status: WARNINGS CheckDir: MAST.Rcheck Warnings: 1