Package: MAST Version: 1.30.0 Command: /Library/Frameworks/R.framework/Resources/bin/R CMD check --install=check:MAST.install-out.txt --library=/Library/Frameworks/R.framework/Resources/library --no-vignettes --timings MAST_1.30.0.tar.gz StartedAt: 2024-06-09 21:17:45 -0400 (Sun, 09 Jun 2024) EndedAt: 2024-06-09 21:23:08 -0400 (Sun, 09 Jun 2024) EllapsedTime: 323.2 seconds RetCode: 0 Status: WARNINGS CheckDir: MAST.Rcheck Warnings: 1