Package: MAST Version: 1.30.0 Command: /home/biocbuild/R/R-beta-2024-04-15_r86425/bin/R CMD build --keep-empty-dirs --no-resave-data MAST StartedAt: 2024-05-09 01:22:07 -0000 (Thu, 09 May 2024) EndedAt: 2024-05-09 01:28:40 -0000 (Thu, 09 May 2024) EllapsedTime: 393.5 seconds RetCode: 0 Status: OK PackageFile: MAST_1.30.0.tar.gz PackageFileSize: 5.927 MiB