Package: MAST Version: 1.30.0 Maintainer: Andrew McDavid MaintainerEmail: Andrew_McDavid at urmc.rochester.edu git_url: https://git.bioconductor.org/packages/MAST git_branch: RELEASE_3_19 git_last_commit: da42c5a git_last_commit_date: 2024-04-30 10:54:15 -0400 (Tue, 30 Apr 2024)