Package: MAPFX Version: 1.0.0 Command: /Library/Frameworks/R.framework/Resources/bin/R CMD build --keep-empty-dirs --no-resave-data MAPFX StartedAt: 2024-10-17 03:29:36 -0400 (Thu, 17 Oct 2024) EndedAt: 2024-10-17 03:41:08 -0400 (Thu, 17 Oct 2024) EllapsedTime: 691.6 seconds RetCode: 0 Status: OK PackageFile: MAPFX_1.0.0.tar.gz PackageFileSize: 3.543 MiB