Package: MAPFX Version: 1.0.0 Command: rm -rf MAPFX.buildbin-libdir && mkdir MAPFX.buildbin-libdir && /Users/biocbuild/BBS/utils/build-universal.sh MAPFX_1.0.0.tar.gz /Library/Frameworks/R.framework/Resources/bin/R MAPFX.buildbin-libdir StartedAt: 2024-10-18 19:13:55 -0400 (Fri, 18 Oct 2024) EndedAt: 2024-10-18 19:14:28 -0400 (Fri, 18 Oct 2024) EllapsedTime: 32.7 seconds RetCode: 0 Status: OK PackageFile: MAPFX_1.0.0.tgz PackageFileSize: 2.504 MiB