Package: MAPFX Version: 1.0.0 Maintainer: Hsiao-Chi Liao MaintainerEmail: chelsea.acad at gmail.com git_url: https://git.bioconductor.org/packages/MAPFX git_branch: RELEASE_3_19 git_last_commit: 4bbfac7 git_last_commit_date: 2024-04-30 11:56:27 -0400 (Tue, 30 Apr 2024)