Package: MANOR Version: 1.76.0 Command: chmod a+r MANOR -R && F:\biocbuild\bbs-3.19-bioc\R\bin\R.exe CMD build --keep-empty-dirs --no-resave-data MANOR StartedAt: 2024-06-26 19:48:26 -0400 (Wed, 26 Jun 2024) EndedAt: 2024-06-26 19:49:31 -0400 (Wed, 26 Jun 2024) EllapsedTime: 64.1 seconds RetCode: 0 Status: OK PackageFile: MANOR_1.76.0.tar.gz PackageFileSize: 821.5 KiB