Package: MANOR Version: 1.76.0 Maintainer: Pierre Neuvial MaintainerEmail: pierre.neuvial at math.cnrs.fr git_url: https://git.bioconductor.org/packages/MANOR git_branch: RELEASE_3_19 git_last_commit: f8e829f git_last_commit_date: 2024-04-30 10:14:44 -0400 (Tue, 30 Apr 2024)