Package: MAIT Version: 1.38.0 Command: chmod a+r MAIT -R && E:\biocbuild\bbs-3.19-bioc\R\bin\R.exe CMD build --keep-empty-dirs --no-resave-data MAIT StartedAt: 2024-10-16 20:03:03 -0400 (Wed, 16 Oct 2024) EndedAt: 2024-10-16 20:07:13 -0400 (Wed, 16 Oct 2024) EllapsedTime: 250.1 seconds RetCode: 0 Status: OK PackageFile: MAIT_1.38.0.tar.gz PackageFileSize: 2.259 MiB