Package: MAIT Version: 1.37.0 Command: /Library/Frameworks/R.framework/Resources/bin/R CMD check --install=check:MAIT.install-out.txt --library=/Library/Frameworks/R.framework/Resources/library --no-vignettes --timings MAIT_1.37.0.tar.gz StartedAt: 2024-03-02 06:10:28 -0500 (Sat, 02 Mar 2024) EndedAt: 2024-03-02 06:27:47 -0500 (Sat, 02 Mar 2024) EllapsedTime: 1039.7 seconds RetCode: 0 Status: OK CheckDir: MAIT.Rcheck Warnings: 0