Package: MAIT Version: 1.38.0 Command: /home/biocbuild/R/R-beta-2024-04-15_r86425/bin/R CMD build --keep-empty-dirs --no-resave-data MAIT StartedAt: 2024-05-09 01:20:07 -0000 (Thu, 09 May 2024) EndedAt: 2024-05-09 01:24:21 -0000 (Thu, 09 May 2024) EllapsedTime: 254.4 seconds RetCode: 0 Status: OK PackageFile: MAIT_1.38.0.tar.gz PackageFileSize: 2.36 MiB