Package: MAIT Version: 1.38.0 Command: /Library/Frameworks/R.framework/Resources/bin/R CMD build --keep-empty-dirs --no-resave-data MAIT StartedAt: 2024-10-17 03:28:10 -0400 (Thu, 17 Oct 2024) EndedAt: 2024-10-17 03:29:36 -0400 (Thu, 17 Oct 2024) EllapsedTime: 85.9 seconds RetCode: 1 Status: ERROR PackageFile: None PackageFileSize: NA