Package: MAI Version: 1.10.0 Command: chmod a+r MAI -R && F:\biocbuild\bbs-3.19-bioc\R\bin\R.exe CMD build --keep-empty-dirs --no-resave-data MAI StartedAt: 2024-06-26 19:48:01 -0400 (Wed, 26 Jun 2024) EndedAt: 2024-06-26 19:54:03 -0400 (Wed, 26 Jun 2024) EllapsedTime: 361.5 seconds RetCode: 0 Status: OK PackageFile: MAI_1.10.0.tar.gz PackageFileSize: 452.4 KiB