Package: MAI Version: 1.10.0 Command: /home/biocbuild/R/R-beta-2024-04-15_r86425/bin/R CMD build --keep-empty-dirs --no-resave-data MAI StartedAt: 2024-05-09 01:19:51 -0000 (Thu, 09 May 2024) EndedAt: 2024-05-09 01:27:31 -0000 (Thu, 09 May 2024) EllapsedTime: 460.6 seconds RetCode: 0 Status: OK PackageFile: MAI_1.10.0.tar.gz PackageFileSize: 519.9 KiB