Package: MAI Version: 1.10.0 Command: /Library/Frameworks/R.framework/Resources/bin/R CMD INSTALL MAI StartedAt: 2024-10-16 18:18:15 -0400 (Wed, 16 Oct 2024) EndedAt: 2024-10-16 18:18:47 -0400 (Wed, 16 Oct 2024) EllapsedTime: 32.5 seconds RetCode: 0 Status: OK