Package: MAI Version: 1.10.0 Command: /Library/Frameworks/R.framework/Resources/bin/R CMD build --keep-empty-dirs --no-resave-data MAI StartedAt: 2024-10-17 03:27:51 -0400 (Thu, 17 Oct 2024) EndedAt: 2024-10-17 03:33:10 -0400 (Thu, 17 Oct 2024) EllapsedTime: 318.7 seconds RetCode: 0 Status: OK PackageFile: MAI_1.10.0.tar.gz PackageFileSize: 451.9 KiB