Package: MAI Version: 1.10.0 Maintainer: Jonathan Dekermanjian MaintainerEmail: Jonathan.Dekermanjian at CUAnschutz.edu git_url: https://git.bioconductor.org/packages/MAI git_branch: RELEASE_3_19 git_last_commit: 4ff85ba git_last_commit_date: 2024-04-30 11:36:21 -0400 (Tue, 30 Apr 2024)