Package: MAGeCKFlute Version: 2.8.0 Command: /home/biocbuild/bbs-3.19-bioc/R/bin/R CMD build --keep-empty-dirs --no-resave-data MAGeCKFlute StartedAt: 2024-10-16 19:14:38 -0400 (Wed, 16 Oct 2024) EndedAt: 2024-10-16 19:17:49 -0400 (Wed, 16 Oct 2024) EllapsedTime: 191.4 seconds RetCode: 0 Status: OK PackageFile: MAGeCKFlute_2.8.0.tar.gz PackageFileSize: 19.27 MiB