Package: MAGeCKFlute Version: 2.8.0 Command: rm -rf MAGeCKFlute.buildbin-libdir && mkdir MAGeCKFlute.buildbin-libdir && /Users/biocbuild/BBS/utils/build-universal.sh MAGeCKFlute_2.8.0.tar.gz /Library/Frameworks/R.framework/Resources/bin/R MAGeCKFlute.buildbin-libdir StartedAt: 2024-06-10 00:25:03 -0400 (Mon, 10 Jun 2024) EndedAt: 2024-06-10 00:25:51 -0400 (Mon, 10 Jun 2024) EllapsedTime: 47.8 seconds RetCode: 0 Status: OK PackageFile: MAGeCKFlute_2.8.0.tgz PackageFileSize: 20.71 MiB