Package: MAGeCKFlute Version: 2.8.0 Command: /Library/Frameworks/R.framework/Resources/bin/R CMD check --install=check:MAGeCKFlute.install-out.txt --library=/Library/Frameworks/R.framework/Resources/library --no-vignettes --timings MAGeCKFlute_2.8.0.tar.gz StartedAt: 2024-10-18 02:26:00 -0400 (Fri, 18 Oct 2024) EndedAt: 2024-10-18 02:30:42 -0400 (Fri, 18 Oct 2024) EllapsedTime: 281.2 seconds RetCode: 0 Status: OK CheckDir: MAGeCKFlute.Rcheck Warnings: 0