Package: MAGeCKFlute Version: 2.8.0 Command: /Library/Frameworks/R.framework/Resources/bin/R CMD build --keep-empty-dirs --no-resave-data MAGeCKFlute StartedAt: 2024-10-17 03:24:57 -0400 (Thu, 17 Oct 2024) EndedAt: 2024-10-17 03:29:34 -0400 (Thu, 17 Oct 2024) EllapsedTime: 277.1 seconds RetCode: 0 Status: OK PackageFile: MAGeCKFlute_2.8.0.tar.gz PackageFileSize: 20.5 MiB